BEGIN:VCALENDAR
VERSION:2.0
PRODID:-//All Cancer Lives Matter. - ECPv6.15.17.1//NONSGML v1.0//EN
CALSCALE:GREGORIAN
METHOD:PUBLISH
X-WR-CALNAME:All Cancer Lives Matter.
X-ORIGINAL-URL:https://www.cancerblackcare.org.uk
X-WR-CALDESC:Events for All Cancer Lives Matter.
REFRESH-INTERVAL;VALUE=DURATION:PT1H
X-Robots-Tag:noindex
X-PUBLISHED-TTL:PT1H
BEGIN:VTIMEZONE
TZID:UTC
BEGIN:STANDARD
TZOFFSETFROM:+0000
TZOFFSETTO:+0000
TZNAME:UTC
DTSTART:20250101T000000
END:STANDARD
END:VTIMEZONE
BEGIN:VEVENT
DTSTART;TZID=UTC:20260404T140000
DTEND;TZID=UTC:20260404T160000
DTSTAMP:20260420T060853
CREATED:20260324T121505Z
LAST-MODIFIED:20260402T170959Z
UID:136198-1775311200-1775318400@www.cancerblackcare.org.uk
SUMMARY:CBC Support Group - 1st Sat of every month
DESCRIPTION:1st Saturday of every month join us for our monthly support group \nThe South London CBC Support Group provides a safe\, culturally relevant space for people affected by cancer to come together\, share experiences\, and access trusted support. The group aims to reduce isolation\, improve emotional wellbeing\, and empower individuals with the knowledge and confidence to navigate their cancer journey. Through regular sessions\, peer support\, and access to specialist input\, we create an environment where lived experience is valued and voices are heard. \nOur objectives focus on increasing engagement with support services\, improving understanding of cancer and treatment pathways\, and addressing the inequalities that often impact Black\, mixed and ethnic minority communities. We work collaboratively with local partners to ensure participants are informed\, supported\, and connected to the wider health system. \nAs a result\, members report feeling less isolated\, more confident in managing their health\, and better equipped to make informed decisions. The group strengthens community connections\, builds trust in services\, and contributes to improved health outcomes across South London.
URL:https://www.cancerblackcare.org.uk/event/cbc-support-group/
LOCATION:South Pensioner Centre\, 305-307 Camberwell Road\, London\, SE5 0HQ\, United Kingdom
ATTACH;FMTTYPE=image/png:https://www.cancerblackcare.org.uk/wp-content/uploads/2024/12/Happy3.png
ORGANIZER;CN="Paul Campbell":MAILTO:p.campbell@cancerblackcare.org.uk
END:VEVENT
END:VCALENDAR