BEGIN:VCALENDAR
VERSION:2.0
PRODID:-//All Cancer Lives Matter. - ECPv6.15.17.1//NONSGML v1.0//EN
CALSCALE:GREGORIAN
METHOD:PUBLISH
X-WR-CALNAME:All Cancer Lives Matter.
X-ORIGINAL-URL:https://www.cancerblackcare.org.uk
X-WR-CALDESC:Events for All Cancer Lives Matter.
REFRESH-INTERVAL;VALUE=DURATION:PT1H
X-Robots-Tag:noindex
X-PUBLISHED-TTL:PT1H
BEGIN:VTIMEZONE
TZID:UTC
BEGIN:STANDARD
TZOFFSETFROM:+0000
TZOFFSETTO:+0000
TZNAME:UTC
DTSTART:20230101T000000
END:STANDARD
END:VTIMEZONE
BEGIN:VEVENT
DTSTART;TZID=UTC:20241207T140000
DTEND;TZID=UTC:20241207T180000
DTSTAMP:20260420T062927
CREATED:20241212T112458Z
LAST-MODIFIED:20241217T143009Z
UID:135444-1733580000-1733594400@www.cancerblackcare.org.uk
SUMMARY:Christmas Party 2024
DESCRIPTION:Join us in a celebration of all that has been achieved in the year behind us and in a toast to the year ahead.
URL:https://www.cancerblackcare.org.uk/event/christmas2024/
LOCATION:South Pensioner Centre\, 305-307 Camberwell Road\, London\, SE5 0HQ\, United Kingdom
ATTACH;FMTTYPE=image/png:https://www.cancerblackcare.org.uk/wp-content/uploads/2024/12/newyear.png
ORGANIZER;CN="Paul Campbell":MAILTO:p.campbell@cancerblackcare.org.uk
END:VEVENT
BEGIN:VEVENT
DTSTART;TZID=UTC:20240907T100000
DTEND;TZID=UTC:20240907T190000
DTSTAMP:20260420T062927
CREATED:20241212T114325Z
LAST-MODIFIED:20241216T131903Z
UID:135468-1725703200-1725735600@www.cancerblackcare.org.uk
SUMMARY:CBC Boxathon September 2024
DESCRIPTION:Our CBC Boxathon Fundraiser\, held in partnership with Balham A.B.C.\, was a tremendous success. On the day\, we were supported by organisations such as BWR\, Macmillan\, Bowel Cancer UK\, Our Future Health\, and Tribal Football.\nThe event featured motivational speakers\, storytellers\, and cancer specialists\, offering fascinating conversations and powerful speeches. The Boxathon aimed to raise public awareness about the impact of cancer and emphasise the importance of early detection and prevention.\nWe extend our heartfelt thanks to everyone who participated and contributed to making these events unforgettable.
URL:https://www.cancerblackcare.org.uk/event/cbcboxathon2024/
LOCATION:Balham Amateur Boxing Club\, 366 Cavendish Road\, London
ATTACH;FMTTYPE=image/png:https://www.cancerblackcare.org.uk/wp-content/uploads/2024/12/cbcboxathon.png
ORGANIZER;CN="Paul Campbell":MAILTO:p.campbell@cancerblackcare.org.uk
END:VEVENT
BEGIN:VEVENT
DTSTART;TZID=UTC:20240113T140000
DTEND;TZID=UTC:20240114T180000
DTSTAMP:20260420T062927
CREATED:20241212T114232Z
LAST-MODIFIED:20241217T143152Z
UID:135462-1705154400-1705255200@www.cancerblackcare.org.uk
SUMMARY:New Year’s Celebration 2024
DESCRIPTION:We are thrilled to share the highlights of our New Year’s Celebration\, held in Canary Wharf in January 2024. The event was a resounding success\, with approximately 100 guests in attendance throughout the day\, including dedicated CBC members who have been supporting CBC for nearly 3 decades.\nThe celebration was filled with heartfelt moments and shared memories. Highlights included inspiring speeches from our guest speakers\, the introduction of our five new trustees\, a captivating performance by a talented poet and singer\, and a special recorded message from the legendary Nile Rodgers. Together\, these elements created a truly memorable and uplifting experience for all who attended.
URL:https://www.cancerblackcare.org.uk/event/newyears2024/
LOCATION:One Canada Square\, Level 39\, One Canada Square\, London\, United Kingdom
ATTACH;FMTTYPE=image/png:https://www.cancerblackcare.org.uk/wp-content/uploads/2024/12/xmas.png
ORGANIZER;CN="Paul Campbell":MAILTO:p.campbell@cancerblackcare.org.uk
END:VEVENT
END:VCALENDAR