BEGIN:VCALENDAR
VERSION:2.0
PRODID:-//All Cancer Lives Matter. - ECPv6.15.17.1//NONSGML v1.0//EN
CALSCALE:GREGORIAN
METHOD:PUBLISH
X-ORIGINAL-URL:https://www.cancerblackcare.org.uk
X-WR-CALDESC:Events for All Cancer Lives Matter.
REFRESH-INTERVAL;VALUE=DURATION:PT1H
X-Robots-Tag:noindex
X-PUBLISHED-TTL:PT1H
BEGIN:VTIMEZONE
TZID:UTC
BEGIN:STANDARD
TZOFFSETFROM:+0000
TZOFFSETTO:+0000
TZNAME:UTC
DTSTART:20230101T000000
END:STANDARD
END:VTIMEZONE
BEGIN:VEVENT
DTSTART;TZID=UTC:20240907T100000
DTEND;TZID=UTC:20240907T190000
DTSTAMP:20260424T035627
CREATED:20241212T114325Z
LAST-MODIFIED:20241216T131903Z
UID:135468-1725703200-1725735600@www.cancerblackcare.org.uk
SUMMARY:CBC Boxathon September 2024
DESCRIPTION:Our CBC Boxathon Fundraiser\, held in partnership with Balham A.B.C.\, was a tremendous success. On the day\, we were supported by organisations such as BWR\, Macmillan\, Bowel Cancer UK\, Our Future Health\, and Tribal Football.\nThe event featured motivational speakers\, storytellers\, and cancer specialists\, offering fascinating conversations and powerful speeches. The Boxathon aimed to raise public awareness about the impact of cancer and emphasise the importance of early detection and prevention.\nWe extend our heartfelt thanks to everyone who participated and contributed to making these events unforgettable.
URL:https://www.cancerblackcare.org.uk/event/cbcboxathon2024/
LOCATION:Balham Amateur Boxing Club\, 366 Cavendish Road\, London
ATTACH;FMTTYPE=image/png:https://www.cancerblackcare.org.uk/wp-content/uploads/2024/12/cbcboxathon.png
ORGANIZER;CN="Paul Campbell":MAILTO:p.campbell@cancerblackcare.org.uk
END:VEVENT
END:VCALENDAR